{"text_format":"1","workbook":"xlsx","n_sheets":10,"sheets":["Uvod","Aktiva","Pasiva","VZZ","Rentabilita","Aktivita","Zadluženost","Likvidita","Z-score","prognoza"],"not_rendered":{"charts":9,"images":29,"macros":1,"external_links":0,"defined_names":0,"comments":2,"pivot_tables":0},"unopened":[],"bounds":{"document_bytes":16777216,"sheet_cells":100000,"rows_first":2000,"rows_last":500,"rows_between":2000,"halvings":0,"cell_chars":16384,"cell_head_chars":4096},"cells_cut":0,"cells_raw":0,"read":"whole","date_system":"1900"}

{"sheet":"Uvod","index":0,"n_rows":19,"n_cols":4,"rows_kept":19,"cut":false,"hidden":false,"merged":[[1,3,1,17]]}
[]
[null,null,null,"Program pro analýzu jednotlivých ukazatelů"]
[]
[]
[]
[]
[]
[]
[]
[]
[]
[]
[]
[]
[]
[]
[]
[]
[null,null,null,"Nápověda"]

{"sheet":"Aktiva","index":1,"n_rows":73,"n_cols":16,"rows_kept":73,"cut":false,"hidden":false,"merged":[[5,3,6,3],[21,0,28,1],[31,0,36,1],[5,0,5,2],[7,0,7,2],[8,1,8,2],[9,1,9,2],[12,0,18,1],[47,0,53,1],[66,0,68,1],[71,0,72,1],[37,1,37,2],[40,0,44,1],[56,0,63,1]]}
[]
[]
[]
[]
[]
[null,null,null,"AKTIVA"]
[null,null,null,null,"2007-12-31","2008-12-31","2009-12-31","2010-12-31","2011-12-31","2012-12-31","2013-12-31","2014-12-31","2015-12-31","2016-12-31","2017-12-31","2018-12-31"]
[null,null,null,"AKTIVA CELKEM ",{"$f":"E9+E10+E38+E70","v":1568557},{"$f":"F9+F10+F38+F70","v":1679538},1434359,1533886,{"$f":"I9+I10+I38+I70","v":1760328},{"$f":"J9+J10+J38+J70","v":1737093},{"$f":"K9+K10+K38+K70","v":0},0,0,0,0,0]
["A.",null,null,"Pohledávky za upsaný základní kapitál",0,0,0,0,0,0,0,0,0,0,0,0]
["B.",null,null,"Dlouhodobý majetek ",{"$f":"E11+E20+E30","v":817888},{"$f":"F11+F20+F30","v":940981},917328,925082,{"$f":"I11+I20+I30","v":884865},835944,0,0,0,0,0,0]
["B.","I.",null,"Dlouhodobý nehmotný majetek ",{"$f":"E12+E13+E14+E15+E16+E17+E18+E19","v":2220},986,252,812,{"$f":"I12+I13+I14+I15+I16+I17+I18+I19","v":1911},{"$f":"SUM(J12:J19)","v":5313},{"$f":"SUM(K12:K19)","v":0},0,0,0,0,0]
["B.","I.",1,"Zřizovací výdaje",0,0,0,0,0,0]
[null,null,2,"Nehmotné výsledky výzkumu a vývoje ",0,0,0,0,0,0]
[null,null,3,"Software",1065,0,252,0,1450,2990]
[null,null,4,"Ocenitelná práva",0,0,0,0,0,0]
[null,null,5,"Goodwill",0,0,0,0,0,0]
[null,null,6,"Jiný dlouhodobý nehmotný majetek",0,0,0,169,56,348]
[null,null,7,"Nedokončený dlouhodobý nehmotný majetek",1155,986,0,0,405,1975]
[null,null,8,"Poskytnuté zálohy na dlouhodobý nehmotný majetek",0,0,0,643,0,0]
["B.","II.",null,"Dlouhodobý hmotný majetek",{"$f":"SUM(E21:E29)","v":797834},{"$f":"SUM(F21:F29)","v":925495},877838,872149,826024,809014,0,0,0,0,0,0]
["B.","II.",1,"Pozemky",5560,5560,5560,5560,5560,5560]
[null,null,2,"Stavby",135152,145545,139355,133315,138707,128555]
[null,null,3,"Samostatné movité věci a soubory movitých věcí",550530,683191,737617,672890,649010,611163]
[null,null,4,"Pěstitelské celky trvalých porostů",0,0,0,null,0,0]
[null,null,5,"Dospělá zvířata a jejich skupiny",0,0,0,null,0,0]
[null,null,6,"Jiný dlouhodobý hmotný majetek",0,0,0,null,0,0]
[null,null,7,"Nedokončený dlouhodobý hmotný majetek",36443,82236,435,24223,8841,45650]
[null,null,8,"Poskytnuté zálohy na dlouhodobý hmotný majetek",83477,20292,4201,43492,29237,21418]
[null,null,9,"Oceňovací rozdíl k nabytému majetku",-13328,-11329,-9330,-7331,-5331,-3332]
["B.","III.",null,"Dlouhodobý finanční majetek  ",{"$f":"SUM(E31:E37)","v":17834},14500,39238,52121,{"$f":"SUM(I31:I37)","v":56930},{"$f":"SUM(J31:J37)","v":21617},0,0,0,0,0,0]
["B.","III.",1,"Podíly - ovládaná osoba",17824,14490,39228,41460,56920,21607]
[null,null,2,"Podíly v účetních jednotkách pod podstatným vlivem",0,0,0,0,0,0]
[null,null,3,"Ostatní dlouhodobé cenné papíry a podíly",10,10,10,10,10,10]
[null,null,4,"Půjčky a úvěry - ovládaná nebo ovládající osoba, podstatný vliv",0,0,0,0,0,0]
[null,null,5,"Jiný dlouhodobý finanční majetek",0,0,0,0,0,0]
[null,null,6,"Pořizovaný dlouhodobý finanční majetek",0,0,0,0,0,0]
[null,null,7,"Poskytnuté zálohy na dlouhodobý finanční majetek",0,0,0,10651,0,0]
["C.",null,null,"Oběžná aktiva ",{"$f":"E39+E46+E55+E65","v":749637},{"$f":"F39+F46+F55+F65","v":737646},515809,608020,874592,899306,{"$f":"K39+K46+K55+K65","v":0},0,0,0,0,0]
["C.","I.",null,"Zásoby  ",{"$f":"SUM(E40:E45)","v":317443},388815,257980,301385,{"$f":"SUM(I40:I45)","v":417721},{"$f":"SUM(J40:J45)","v":411321},{"$f":"SUM(K40:K45)","v":0},0,0,0,0,0]
["C.","I.",1,"Materiál",96510,122265,65153,87207,132153,117253]
[null,null,2,"Nedokončená výroba a polotovary",63786,76529,49256,74418,80499,58471]
[null,null,3,"Výrobky",102630,124448,102259,100881,143839,173517]
[null,null,4,"Mladá a ostatní zvířata a jejich skupiny",0,0,0,0,0,0]
[null,null,5,"Zboží",54513,65552,41312,38837,60407,62048]
[null,null,6,"Poskytnuté zálohy na zásoby",4,21,0,42,823,32]
["C.","II.",null,"Dlouhodobé pohledávky  ",{"$f":"SUM(E47:E54)","v":52944},0,0,362,{"$f":"SUM(I47:I54)","v":116},{"$f":"SUM(J47:J54)","v":0},0,0,0,0,0,0]
["C.","II.",1,"Pohledávky z obchodních vztahů",0,0,0,362,116,0]
[null,null,2,"Pohledávky - ovládaná nebo ovládající osoba",0,0,0,0,0,0]
[null,null,3,"Pohledávky - podstatný vliv",0,0,0,0,0,0]
[null,null,4,"Pohledávky za společníky, členy družstva  a za účastníky sdružení",0,0,0,0,0,0]
[null,null,5,"Dlouhodobé poskytnuté zálohy",0,0,0,0,0,0]
[null,null,6,"Dohadné účty aktivní",0,0,0,0,0,0]
[null,null,7,"Jiné pohledávky",0,0,0,0,0,0]
[null,null,8,"Odložená daňová pohledávka",52944,0,0,0,0,0]
["C.","III.",null,"Krátkodobé pohledávky  ",{"$f":"SUM(E56:E64)","v":335093},336929,254614,298688,{"$f":"SUM(I56:I64)","v":448694},{"$f":"SUM(J56:J64)","v":474703},0,0,0,0,0,0]
["C.","III.",1,"Pohledávky z obchodních vztahů",326033,271632,225587,290350,118078,125316]
[null,null,2,"Pohledávky - ovládaná nebo ovládající osoba",null,58455,0,null,306580,342538]
[null,null,3,"Pohledávky - podstatný vliv",null,0,0,0,0,0]
[null,null,4,"Pohledávky za společníky, členy družstva  a za účastníky sdružení",null,0,0,0,0,0]
[null,null,5,"Sociální zabezpečení a zdravotní pojištění",null,0,0,null,0,0]
[null,null,6,"Stát - daňové pohledávky",0,2,18641,1528,14106,0]
[null,null,7,"Krátkodobé poskytnuté zálohy",5589,5208,5368,4044,8522,5364]
[null,null,8,"Dohadné účty aktivní",960,863,4408,1777,139,147]
[null,null,9,"Jiné pohledávky",2511,769,610,989,1269,1338]
["C.","IV.",null,"Krátkodobý finanční majetek  ",{"$f":"SUM(E66:E69)","v":44157},11902,3215,7585,{"$f":"SUM(I66:I69)","v":8061},{"$f":"SUM(J66:J69)","v":13282},{"$f":"SUM(K66:K69)","v":0},0,0,0,0,0]
["C.","IV.",1,"Peníze",297,236,324,270,238,280]
[null,null,2,"Účty v bankách",43860,11666,2891,7315,7823,13002]
[null,null,3,"Krátkodobý cenné papíry a podíly",0,0,0,0,0,0]
[null,null,4,"Pořizovaný krátkodobý finanční majetek",0,0,0,0,0,0]
["D.","I.",null,"Časové rozlišení  ",{"$f":"SUM(E71:E73)","v":1032},911,1222,784,{"$f":"SUM(I71:I73)","v":871},{"$f":"SUM(J71:J73)","v":1843},0,0,0,0,0,0]
["D.","I.",1,"Náklady příštích období ",984,908,1221,783,870,1842]
[null,null,2,"Komplexní náklady příštích období",null,null,0,0,0,0]
[null,null,3,"Příjmy příštích období",48,3,1,1,1,1]

{"sheet":"Pasiva","index":2,"n_rows":64,"n_cols":16,"rows_kept":64,"cut":false,"hidden":false,"merged":[[5,3,6,3],[26,0,26,1],[22,0,22,1],[15,0,19,1],[36,0,44,1],[7,0,7,2],[8,1,8,2],[28,1,28,2],[31,0,33,1],[10,0,12,1]]}
[]
[]
[]
[]
[]
[null,null,null,"Pasiva"]
[null,null,null,null,"2007-12-31","2008-12-31","2009-12-31","2010-12-31","2011-12-31","2012-12-31","2013-12-31","2014-12-31","2015-12-31","2016-12-31","2017-12-31","2018-12-31"]
[null,null,null,"PASIVA CELKEM  ",{"$f":"E9+E29+E62","v":1568557},1679538,1434359,1533886,1760328,1737093,0,0,0,0,0,0]
["A.",null,null,"Vlastní kapitál",{"$f":"E10+E14+E21+E28+E24","v":913185},{"$f":"F10+F14+F21+F28+F24","v":767519},686701,761966,{"$f":"I10+I14+I21+I28+I24","v":924071},1044250,{"$f":"K10+K14+K21+K28+K24","v":0},0,0,0,0,0]
["A.","I.",null,"Základní kapitál ",{"$f":"SUM(E11:E13)","v":335000},{"$f":"SUM(F11:F13)","v":335000},335000,335000,{"$f":"SUM(I11:I13)","v":335000},{"$f":"SUM(J11:J13)","v":335000},0,0,0,0,0,0]
[null,null,1,"Základní kapitál",335000,335000,335000,335000,335000,335000]
[null,null,2,"Vlastní akcie a vlastní obchodní podíly (-)",0,0,0,0,0,0]
[null,null,3,"Změny základního kapitálu",0,0,0,0,0,0]
["A.","II.",null,"Kapitálové fondy ",{"$f":"SUM(E15:E20)","v":-3314},{"$f":"SUM(F15:F20)","v":-3595},{"$f":"SUM(G16:G20)","v":-3161},{"$f":"SUM(H16:H20)","v":-3178},-6076,-9851,0,0,0,0,0,0]
["A.","II.",1,"Emisní ážio",0,0,0,0,0,0]
[null,null,2,"Ostatní kapitálové fondy",0,0,0,0,0,0]
[null,null,3,"Oceňovací rozdíly z přecenění majetku a závazků",-3314,-3595,-3161,-3178,-6076,-9851]
[null,null,4,"Oceňovací rozdíly z přecenění při přeměnách společností",0,0,0,0,0,0]
[null,null,5,"Vypořádání rozdílu z přeměn společností",0,0,0,0,0,0]
[null,null,6,"Rozdíly z ocenění při přeměnách společností",0,0,0,0,0,0]
["A.","III.",null,"Rezervní fondy, nedělitelný fond  a ostatní fondy ze zisku ",{"$f":"SUM(E22:E23)","v":32500},{"$f":"SUM(F22:F23)","v":33500},33500,33500,33500,33500,0,0,0,0,0,0]
["A.","III.",1,"Zákonný rezervní fond / Nedělitelný fond",32500,33500,33500,33500,33500,33500]
[null,null,2,"Statutární a ostatní fondy",0,0,0,0,0,0]
["A.","IV.",null,"Výsledek hospodaření minulých let ",{"$f":"SUM(E25:E27)","v":191054},{"$f":"SUM(F25:F27)","v":197999},252614,221362,{"$f":"SUM(I25:I27)","v":196644},361647,0,0,0,0,0,0]
["A.","IV.",1,"Nerozdělený zisk minulých let ",191054,197999,252614,221362,196644,361647]
[null,null,2,"Neuhrazená ztráta minulých let",0,0,0,0,0,0]
[null,null,3,"Jiný výsledek hospodaření minulých let",0,0,0,0,0,0]
["A.","V.",null,"Výsledek hospodaření běžného účetního období (+/-) ",357945,204615,68748,175282,365003,323954,0,0,0,0,0,0]
["B.",null,null,"Cizí zdroje    ",{"$f":"E30+E35+E46+E58","v":648065},{"$f":"F30+F35+F46+F58","v":911387},747405,771813,836117,692781,0,0,0,0,0,0]
["B.","I.",null,"Rezervy  ",{"$f":"SUM(E31:E34)","v":19104},{"$f":"SUM(F31:F34)","v":12464},5973,9215,{"$f":"SUM(I31:I34)","v":26000},32469,0,0,0,0,0,0]
["B.","I.",1,"Rezervy podle zvláštních právních předpisů",8118,0,0,0,0,0]
[null,null,2,"Rezerva na důchody a podobné závazky",0,0,0,0,0,0]
[null,null,3,"Rezerva na daň z příjmů",1091,1848,0,0,0,0]
[null,null,4,"Ostatní rezervy",9895,10616,5973,9215,26000,32469]
["B.","II.",null,"Dlouhodobé závazky ",{"$f":"SUM(E36:E45)","v":0},{"$f":"SUM(F36:F45)","v":41669},51973,59273,57014,51518,{"$f":"SUM(K36:K45)","v":0},0,0,0,0,0]
["B.","II.",1,"Závazky z obchodních vztahů",0,0,0,0,0,0]
[null,null,2,"Závazky - ovládaná nebo ovládající osoba",0,0,0,0,0,0]
[null,null,3,"Závazky - podstatný vliv",0,0,0,0,0,0]
[null,null,4,"Závazky ke společníkům, členům družstva  a k účastníkům sdružení",0,0,0,0,0,0]
[null,null,5,"Dlouhodobé přijaté zálohy",0,0,0,0,0,0]
[null,null,6,"Vydané dluhopisy",0,0,0,0,0,0]
[null,null,7,"Dlouhodobé směnky k úhradě",0,0,0,0,0,0]
[null,null,8,"Dohadné účty pasívní",0,0,0,0,0,0]
[null,null,9,"Jiné závazky",0,0,0,0,0,0]
[null,null,10,"Odložený daňový závazek",0,41669,51973,59273,57014,51518]
["B.","III.",null,"Krátkodobé závazky ",{"$f":"SUM(E47:E57)","v":238518},{"$f":"SUM(F47:F57)","v":211036},88302,167628,171537,193433,{"$f":"SUM(K47:K57)","v":0},0,0,0,0,0]
["B.","III.",1,"Závazky z obchodních vztahů",179791,161030,58432,118279,44362,37348]
[null,null,2,"Závazky - ovládaná nebo ovládající osoba",0,0,0,0,76264,81662]
[null,null,3,"Závazky - podstatný vliv",0,0,0,0,0,0]
[null,null,4,"Závazky ke společníkům, členům družstva  a k účastníkům sdružení",0,0,0,0,0,0]
[null,null,5,"Závazky k zaměstnancům",10149,13899,9441,13414,14620,14380]
[null,null,6,"Závazky ze sociálního zabezpečení a zdravotního pojištění",6155,7120,5615,8150,8694,7800]
[null,null,7,"Stát - daňové závazky a dotace",1559,2592,1145,1755,2068,8308]
[null,null,8,"Kratkodobé přijaté zálohy",1477,100,315,1693,256,513]
[null,null,9,"Vydané dluhopisy",0,0,0,0,0,0]
[null,null,10,"Dohadné účty pasivní ",39257,25865,12951,24157,25262,43421]
[null,null,11,"Jiné závazky",130,430,403,180,11,1]
["B.","IV.",null,"Bankovní úvěry a výpomoci  ",{"$f":"SUM(E59:E61)","v":390443},{"$f":"SUM(F59:F61)","v":646218},601157,535697,581566,415361,{"$f":"SUM(K59:K61)","v":0},0,0,0,0,0]
["B.","IV.",1,"Bankovní úvěry dlouhodobé",0,0,0,0,0,0]
[null,null,2,"Krátkodobé bankovní úvěry ",390443,646218,601157,535697,581566,415361]
[null,null,3,"Krátkodobé finanční výpomoci",0,0,0,0,0,0]
["C.","I.",null,"Časové rozlišení ",{"$f":"SUM(E63:E64)","v":7307},{"$f":"SUM(F63:F64)","v":632},253,107,140,62,{"$f":"SUM(K63:K64)","v":0},0,0,0,0,0]
["C.","I.",1,"Výdaje příštích období",7307,632,253,107,140,62]
[null,null,2,"Výnosy příštích období ",0,0,0,0,0,0]

{"sheet":"VZZ","index":3,"n_rows":68,"n_cols":16,"rows_kept":68,"cut":false,"hidden":false,"merged":[[7,0,7,2],[8,1,8,2],[9,0,9,2],[10,0,10,2],[12,0,13,1],[36,0,36,2],[33,1,33,2],[34,0,34,2],[35,1,35,2],[15,1,16,1],[18,1,18,2],[19,1,22,1],[17,0,17,2],[14,1,14,2],[28,1,28,2],[25,0,25,2],[31,1,31,2],[32,0,32,2],[97,0,97,2],[98,0,98,2],[56,1,57,1],[37,0,37,2],[51,1,51,2],[50,0,50,2],[38,1,38,2],[48,0,48,2],[91,1,91,2],[92,1,92,2],[93,1,94,1],[95,0,95,2],[96,1,96,2],[83,0,83,2],[84,1,84,2],[90,0,90,2],[5,3,6,3],[68,0,68,2],[82,1,82,2],[81,0,81,2],[69,1,69,2],[79,0,79,2],[64,0,64,2],[58,0,58,2],[55,1,55,2],[60,1,60,2],[61,1,61,2],[62,1,63,1],[23,1,23,2],[24,1,24,2],[65,1,65,2],[66,0,66,2],[52,0,52,2],[53,1,53,2],[59,0,59,2],[87,1,88,1],[89,0,89,2],[86,1,86,2],[67,0,67,2]]}
[]
[]
[]
[]
[]
[null,null,null,"Výkaz zisků a ztráty"]
[null,null,null,null,"2007-12-31","2008-12-31","2009-12-31","2010-12-31","2011-12-31","2012-12-31","2013-12-31","2014-12-31","2015-12-31","2016-12-31","2017-12-31","2018-12-31"]
["I.",null,null,"Tržby za prodej zboží ",211096,201394,106616,124672,186271,213890]
["A.",null,null,"Náklady vynaložené na prodané zboží",144891,140289,74773,90238,133981,152805]
["+",null,null,"Obchodní marže ",66205,61105,{"$f":"G8-G9","v":31843},{"$f":"H8-H9","v":34434},{"$f":"I8-I9","v":52290},61085,{"$f":"K8-K9","v":0},0,0,0,0,0]
["II.",null,null,"Výkony",{"$f":"E12+E13+E14","v":1389950},1402622,{"$f":"G12+G13+G14","v":866983},{"$f":"H12+H13+H14","v":1232601},1635520,1726009,{"$f":"K12+K13+K14","v":0},0,0,0,0,0]
[null,"II.",1,"Tržby za prodej vlastních výrobků a služeb",1360395,1366067,912130,1195723,1583000,1691421]
[null,null,2,"Změna stavu zásob vlastní činnosti",29555,36555,-45147,36878,44220,26046]
[null,null,3,"Aktivace",0,0,0,0,8300,8542]
["B.",null,null,"Výkonová spotřeba ",{"$f":"SUM(E16:E17)","v":710362},731659,{"$f":"SUM(G16:G17)","v":437985},{"$f":"SUM(H16:H17)","v":605284},848555,898117,{"$f":"SUM(K16:K17)","v":0},0,0,0,0,0]
["B.",null,1,"Spotřeba materiálu a energie",529497,547196,320045,455860,653065,700740]
["B.",null,2,"Služby",180865,184463,117940,149424,195490,197377]
["+",null,null,"Přidaná hodnota",{"$f":"E10+E11-E15","v":745793},732068,{"$f":"G10+G11-G15","v":460841},{"$f":"H10+H11-H15","v":661751},839255,888977,{"$f":"K10+K11-K15","v":0},0,0,0,0,0]
["C.",null,null,"Osobní náklady",{"$f":"SUM(E20:E23)","v":255305},{"$f":"SUM(F20:F23)","v":320388},201745,264483,320766,343410,{"$f":"SUM(K20:K23)","v":0},0,0,0,0,0]
["C.",null,1,"Mzdové náklady",146727,184537,145732,191475,232539,253454]
["C.",null,2,"Odměny členům orgánů společnosti a družstva",51440,63985,0,0,0,0]
["C.",null,3,"Náklady na sociální zabezpečení a zdravotní pojištění",51440,63985,48960,64534,78108,79192]
["C.",null,4,"Sociální náklady",5698,7881,7053,8474,10119,10764]
["D.",null,null,"Daně a poplatky",544,650,439,603,682,622]
["E.",null,null,"Odpisy  dlouhodobého nehmotného a hmotného majetku",104231,124097,145454,153689,158599,148419]
["III.",null,null,"Tržby z prodeje dlouhodobého majetku a materiálu ",{"$f":"SUM(E27:E28)","v":13316},9170,{"$f":"SUM(G27:G28)","v":5355},{"$f":"SUM(H27:H28)","v":8242},86195,92908,{"$f":"SUM(K27:K28)","v":0},0,0,0,0,0]
[null,"III.",1,"Tržby z prodeje dlouhodobého majetku ",3033,264,202,1660,23318,14]
[null,null,2,"Tržby z prodeje materiálu",10283,8906,5153,6582,62877,92894]
["F.",null,null,"Zůstatková cena prodaného dlouhodobého majetku a materiálu ",{"$f":"E30+E31","v":5179},3436,{"$f":"G30+G31","v":2739},{"$f":"H30+H31","v":6675},65680,74674,{"$f":"K30+K31","v":0},0,0,0,0,0]
["F.",null,1,"Zůstatková cena prodaného dlouhodobého majetku",2911,138,58,933,22164,3]
["F.",null,2,"Prodaný materiál",2268,3298,2681,5742,43516,74671]
["G.",null,null,"Změna stavu rezerv a opravných položek v provozní oblasti a komplexních nákladů příštích období",-596,-10576,35067,-10867,-1732,15865]
["IV.",null,null,"Ostatní provozní výnosy",11966,10119,10220,11606,11414,11583]
["H.",null,null,"Ostatní provozní náklady",8677,9345,8989,6848,9612,29495]
["V.",null,null,"Převod provozních výnosů",0,0,0,0,0,0]
["I.",null,null,"Převod provozních nákladů",0,0,0,0,0,0]
["*",null,null,"Provozní výsledek hospodaření\n",459155,358022,96829,260168,383257,382983,0,0,0,0,0,0]
["VI",null,null,"Tržby z prodeje cenných papírů a podílů",0,0,0,0,0,0]
["J.",null,null,"Prodané cenné papíry a podíly",0,0,0,0,0,0]
[null,"VII.",null,"Výnosy z dlouhodobého finančního majetku",22586,24627,0,0,20173,0,0,0,0,0,0,0]
[null,"VII.",1,"Výnosy z podílů v ovládaných osobách a v účetních jednotkách pod podstatným vlivem",22586,24627,0,0,20173,0]
[null,"VII.",2,"Výnosy z ostatních dlouhodobých cenných papírů a podílů",0,0,0,0,0,0]
[null,"VII.",3,"Výnosy z ostatního dlouhodobého finančního majetku",0,0,0,0,0,0]
[null,"VIII.",null,"Výnosy z krátkodobého finančního majetku",0,0,0,0,0,0]
["K.",null,null,"Náklady z finančního majetku",0,0,0,0,0,0]
[null,"IX.",null,"Výnosy z přecenění cenných papírů a derivátů",0,0,0,0,0,0]
["L.",null,null,"Náklady z přecenění cenných papírů a derivátů",0,0,0,0,0,0]
["M.",null,null,"Změna stavu rezerv a opravných položek ve finanční oblasti",0,0,0,0,-2793,31539]
["X.",null,null,"Výnosové úroky",1110,3244,1818,109,312,76]
["N.",null,null,"Nákladové úroky",11412,27200,26759,16170,14257,10823]
["XI.",null,null,"Ostatní finanční výnosy",22686,55085,118,5,31038,16713]
["O.",null,null,"Ostatní finanční náklady",33723,66448,10645,6334,25705,24540]
["XII.",null,null,"Převod finančních výnosů",0,0,0,0,0,0]
["P.",null,null,"Převod finančních nákladů",0,0,0,0,0,0]
["*",null,null,"Finanční výsledek hospodaření\n",1247,-10692,-13058,-22390,14354,-24168,0,0,0,0,0,0]
["Q.",null,null,"Daň z příjmů za běžnou činnost  ",{"$f":"SUM(E57:E58)","v":102457},142715,{"$f":"SUM(G57:G58)","v":15023},{"$f":"SUM(H57:H58)","v":42965},32608,34861,{"$f":"SUM(K57:K58)","v":0},0,0,0,0,0]
["Q.",null,1,"     -splatná",46302,48102,4719,35665,34867,40357]
["Q.",null,2,"     -odložená",56155,94613,10304,7300,-2259,-5496]
["**",null,null,"Výsledek hospodaření za běžnou činnost  ",357945,{"$f":"F37+F55-F56","v":204615},{"$f":"G37+G55-G56","v":68748},{"$f":"H37+H55-H56","v":194813},365003,323954,0,0,0,0,0,0]
["XIII.",null,null,"Mimořádné výnosy",0,0,14846,0,0,0]
["R.",null,null,"Mimořádné náklady",0,0,0,19531,0,0]
["S.",null,null,"Daň z příjmů z mimořádné činnosti  ",0,0,0,0,0,0,0,0,0,0,0,0]
["S.",null,1,"     -splatná",0,0,0,0,0,0]
["S.",null,2,"     -odložená",0,0,0,0,0,0]
["*",null,null,"Mimořádný výsledek hospodaření ",0,0,14846,-19531,0,0,0,0,0,0,0,0]
["T.",null,null,"Převod podílu na výsledku hospodaření společníkům (+/-)",0,0,0,0,0,0]
["***",null,null,"Výsledek hospodaření za účetní období (+/-) ",357945,204615,68748,175282,365003,323954,0,0,0,0,0,0]
["****",null,null,"Výsledek hospodaření  před zdaněním (+/-)  ",460402,347330,83771,218247,397611,358815,0,0,0,0,0,0]

{"sheet":"Rentabilita","index":4,"n_rows":183,"n_cols":17,"rows_kept":183,"cut":false,"hidden":false,"merged":[[38,1,38,4],[27,1,27,4],[28,1,28,4],[8,1,8,4],[4,1,5,4],[6,1,6,4],[7,1,7,4],[29,1,29,4]]}
[]
[]
[]
[]
[null,"Ukazatelé rentability"]
[null,null,null,null,null,2007,2008,2009,2010,2011,2012,2013,2014,2015,2016,2017,2018]
[null,"Rentabilita tržeb ROS",null,null,null,{"$f":"VZZ!E67/(VZZ!E11+VZZ!E8+VZZ!E26+VZZ!E38)","v":0.2217253627129479},{"$f":"VZZ!F67/(VZZ!F11+VZZ!F8+VZZ!F26+VZZ!F38)","v":0.12683906257554925},{"$f":"VZZ!G67/(VZZ!G11+VZZ!G8+VZZ!G26+VZZ!G38)","v":7.0225975888550438E-2},{"$f":"VZZ!H67/(VZZ!H11+VZZ!H8+VZZ!H26+VZZ!H38)","v":0.12836329150540271},{"$f":"VZZ!I67/(VZZ!I11+VZZ!I8+VZZ!I26+VZZ!I38)","v":0.1913027663724996},{"$f":"VZZ!J67/(VZZ!J11+VZZ!J8+VZZ!J26+VZZ!J38)","v":0.15936289082042712},{"$f":"IF(VZZ!K67=0,0,VZZ!K67/(VZZ!K8+VZZ!K11+VZZ!K26+VZZ!K38))","v":0},{"$f":"IF(VZZ!L67=0,0,VZZ!L67/(VZZ!L8+VZZ!L11+VZZ!L26+VZZ!L38))","v":0},{"$f":"IF(VZZ!M67=0,0,VZZ!M67/(VZZ!M8+VZZ!M11+VZZ!M26+VZZ!M38))","v":0},{"$f":"IF(VZZ!N67=0,0,VZZ!N67/(VZZ!N8+VZZ!N11+VZZ!N26+VZZ!N38))","v":0},{"$f":"IF(VZZ!O67=0,0,VZZ!O67/(VZZ!O8+VZZ!O11+VZZ!O26+VZZ!O38))","v":0},{"$f":"IF(VZZ!P67=0,0,VZZ!P67/(VZZ!P8+VZZ!P11+VZZ!P26+VZZ!P38))","v":0}]
[null,"Rentabilita aktiv ROA",null,null,null,{"$f":"IF(VZZ!E68=0,0,VZZ!E68/Aktiva!E8)","v":0.29351945769264365},{"$f":"IF(VZZ!F68=0,0,VZZ!F68/Aktiva!F8)","v":0.20680091787146226},{"$f":"IF(VZZ!G68=0,0,VZZ!G68/Aktiva!G8)","v":5.8403091555182488E-2},{"$f":"IF(VZZ!H68=0,0,VZZ!H68/Aktiva!H8)","v":0.14228371599975487},{"$f":"IF(VZZ!I68=0,0,VZZ!I68/Aktiva!I8)","v":0.22587324634954395},{"$f":"IF(VZZ!J68=0,0,VZZ!J68/Aktiva!J8)","v":0.20656061592557221},{"$f":"IF(VZZ!K68=0,0,VZZ!K68/Aktiva!K8)","v":0},{"$f":"IF(VZZ!L68=0,0,VZZ!L68/Aktiva!L8)","v":0},{"$f":"IF(VZZ!M68=0,0,VZZ!M68/Aktiva!M8)","v":0},{"$f":"IF(VZZ!N68=0,0,VZZ!N68/Aktiva!N8)","v":0},{"$f":"IF(VZZ!O68=0,0,VZZ!O68/Aktiva!O8)","v":0},{"$f":"IF(VZZ!P68=0,0,VZZ!P68/Aktiva!P8)","v":0}]
[]
[]
[]
[]
[]
[]
[]
[]
[]
[]
[]
[]
[]
[]
[]
[]
[]
[]
[]
[]
[]
[]
[]
[]
[]
[]
[]
[]
[]
[]
[]
[]
[]
[]
[]
[]
[]
[]
[]
[]
[]
[]
[]
[]
[]
[]
[]
[]
[]
[]
[]
[]
[]
[]
[]
[]
[]
[]
[]
[]
[]
[]
[]
[]
[]
[]
[]
[]
[]
[]
[]
[]
[]
[]
[]
[]
[]
[]
[]
[]
[]
[]
[]
[]
[]
[]
[]
[]
[]
[]
[]
[]
[]
[]
[]
[]
[]
[]
[]
[]
[]
[]
[]
[]
[]
[]
[]
[]
[]
[]
[]
[]
[]
[]
[]
[]
[]
[]
[]
[]
[]
[]
[]
[]
[]
[]
[]
[]
[]
[]
[]
[]
[]
[]
[]
[]
[]
[]
[]
[]
[]
[]
[]
[]
[]
[]
[]
[]
[]
[]
[]
[]
[]
[]
[]
[]
[]
[]
[]
[]
[]
[]
[]
[]
[]
[]
[]
[]
[]
[]
[]
[]
[]
[{"$f":"AVERAGE(F7:K7)","v":0.14963655831256281},0.14960000000000001,0.14960000000000001,0.14960000000000001,0.14960000000000001,0.14960000000000001,0.14960000000000001,0.14960000000000001,0.14960000000000001]
[{"$f":"AVERAGE(F8:K8)","v":0.18890684089902657},0.18890000000000001,0.18890000000000001,0.18890000000000001,0.18890000000000001,0.18890000000000001,0.18890000000000001,0.18890000000000001,0.18890000000000001]

{"sheet":"Aktivita","index":5,"n_rows":8,"n_cols":17,"rows_kept":8,"cut":false,"hidden":false,"merged":[[32,7,33,7],[6,1,6,4],[7,1,7,4],[8,1,8,4],[4,1,5,4],[32,3,33,3],[32,4,33,4],[32,5,33,5],[32,6,33,6]]}
[]
[]
[]
[]
[null,"Ukazatele aktivity"]
[null,null,null,null,null,2007,2008,2009,2010,2011,2012,2013,2014,2015,2016,2017,2018]
[null,"Obrat celkových aktiv",null,null,null,{"$f":"IF(Aktiva!E8=0,0,(VZZ!E8+VZZ!E11+VZZ!E26+VZZ!E38)/Aktiva!E8)","v":1.0292019990347816},{"$f":"IF(Aktiva!F8=0,0,(VZZ!F8+VZZ!F11+VZZ!F26+VZZ!F38)/Aktiva!F8)","v":0.96049389772663674},{"$f":"IF(Aktiva!G8=0,0,(VZZ!G8+VZZ!G11+VZZ!G26+VZZ!G38)/Aktiva!G8)","v":0.68250277650155922},{"$f":"IF(Aktiva!H8=0,0,(VZZ!H8+VZZ!H11+VZZ!H26+VZZ!H38)/Aktiva!H8)","v":0.89023239015154976},{"$f":"IF(Aktiva!I8=0,0,(VZZ!I8+VZZ!I11+VZZ!I26+VZZ!I38)/Aktiva!I8)","v":1.0838809585486342},{"$f":"IF(Aktiva!J8=0,0,(VZZ!J8+VZZ!J11+VZZ!J26+VZZ!J38)/Aktiva!J8)","v":1.1702349845402635},{"$f":"IF(Aktiva!K8=0,0,(VZZ!K8+VZZ!K11+VZZ!K26+VZZ!K38)/Aktiva!K8)","v":0},{"$f":"IF(Aktiva!L8=0,0,(VZZ!L8+VZZ!L11+VZZ!L26+VZZ!L38)/Aktiva!L8)","v":0},{"$f":"IF(Aktiva!M8=0,0,(VZZ!M8+VZZ!M11+VZZ!M26+VZZ!M38)/Aktiva!M8)","v":0},{"$f":"IF(Aktiva!N8=0,0,(VZZ!N8+VZZ!N11+VZZ!N26+VZZ!N38)/Aktiva!N8)","v":0},{"$f":"IF(Aktiva!O8=0,0,(VZZ!O8+VZZ!O11+VZZ!O26+VZZ!O38)/Aktiva!O8)","v":0},{"$f":"IF(Aktiva!P8=0,0,(VZZ!P8+VZZ!P11+VZZ!P26+VZZ!P38)/Aktiva!P8)","v":0}]
[null,"Doba obratu pohledávek [den]",null,null,null,{"$f":"IF(Aktiva!E55=0,0,Aktiva!E55/((VZZ!E8+VZZ!E11+VZZ!E26+VZZ!E38)/360))","v":74.725173164383207},{"$f":"IF(Aktiva!F55=0,0,Aktiva!F55/((VZZ!F8+VZZ!F11+VZZ!F26+VZZ!F38)/360))","v":75.189370599546493},{"$f":"IF(Aktiva!G55=0,0,Aktiva!G55/((VZZ!G8+VZZ!G11+VZZ!G26+VZZ!G38)/360))","v":93.631610882635954},{"$f":"IF(Aktiva!H55=0,0,Aktiva!H55/((VZZ!H8+VZZ!H11+VZZ!H26+VZZ!H38)/360))","v":78.745147435216751},{"$f":"IF(Aktiva!I55=0,0,Aktiva!I55/((VZZ!I8+VZZ!I11+VZZ!I26+VZZ!I38)/360))","v":84.659866477007697},{"$f":"IF(Aktiva!J55=0,0,Aktiva!J55/((VZZ!J8+VZZ!J11+VZZ!J26+VZZ!J38)/360))","v":84.067538138150837},{"$f":"IF(Aktiva!K55=0,0,Aktiva!K55/((VZZ!K8+VZZ!K11+VZZ!K26+VZZ!K38)/360))","v":0},{"$f":"IF(Aktiva!L55=0,0,Aktiva!L55/((VZZ!L8+VZZ!L11+VZZ!L26+VZZ!L38)/360))","v":0},{"$f":"IF(Aktiva!M55=0,0,Aktiva!M55/((VZZ!M8+VZZ!M11+VZZ!M26+VZZ!M38)/360))","v":0},{"$f":"IF(Aktiva!N55=0,0,Aktiva!N55/((VZZ!N8+VZZ!N11+VZZ!N26+VZZ!N38)/360))","v":0},{"$f":"IF(Aktiva!O55=0,0,Aktiva!O55/((VZZ!O8+VZZ!O11+VZZ!O26+VZZ!O38)/360))","v":0},{"$f":"IF(Aktiva!P55=0,0,Aktiva!P55/((VZZ!P8+VZZ!P11+VZZ!P26+VZZ!P38)/360))","v":0}]

{"sheet":"Zadluženost","index":6,"n_rows":7,"n_cols":17,"rows_kept":7,"cut":false,"hidden":false,"merged":[[4,1,5,4],[6,1,6,4]]}
[]
[]
[]
[]
[null,"Ukazatele zadluženosti"]
[null,null,null,null,null,2007,2008,2009,2010,2011,2012,2013,2014,2015,2016,2017,2018]
[null,"Celková zadluženost",null,null,null,{"$f":"IF(Pasiva!E29=0,0,(Pasiva!E29/Pasiva!E8))","v":0.41315999354821026},{"$f":"IF(Pasiva!F29=0,0,(Pasiva!F29/Pasiva!F8))","v":0.54264148831404824},{"$f":"IF(Pasiva!G29=0,0,(Pasiva!G29/Pasiva!G8))","v":0.52107247906556164},{"$f":"IF(Pasiva!H29=0,0,(Pasiva!H29/Pasiva!H8))","v":0.50317494259677709},{"$f":"IF(Pasiva!I29=0,0,(Pasiva!I29/Pasiva!I8))","v":0.47497795865316011},{"$f":"IF(Pasiva!J29=0,0,(Pasiva!J29/Pasiva!J8))","v":0.39881629826382353},{"$f":"IF(Pasiva!K29=0,0,(Pasiva!K29/Pasiva!K8))","v":0},{"$f":"IF(Pasiva!L29=0,0,(Pasiva!L29/Pasiva!L8))","v":0},{"$f":"IF(Pasiva!M29=0,0,(Pasiva!M29/Pasiva!M8))","v":0},{"$f":"IF(Pasiva!N29=0,0,(Pasiva!N29/Pasiva!N8))","v":0},{"$f":"IF(Pasiva!O29=0,0,(Pasiva!O29/Pasiva!O8))","v":0},{"$f":"IF(Pasiva!P29=0,0,(Pasiva!P29/Pasiva!P8))","v":0}]

{"sheet":"Likvidita","index":7,"n_rows":8,"n_cols":17,"rows_kept":8,"cut":false,"hidden":false,"merged":[[8,1,8,4],[4,1,5,4],[6,1,6,4],[7,1,7,4]]}
[]
[]
[]
[]
[null,"Ukazatelé likvidity"]
[null,null,null,null,null,2007,2008,2009,2010,2011,2012,2013,2014,2015,2016,2017,2018]
[null,"Běžná likvidita",null,null,null,{"$f":"IF(Aktiva!E38=0,0,Aktiva!E38/Pasiva!E46)","v":3.1428948758584259},{"$f":"IF(Aktiva!F38=0,0,Aktiva!F38/Pasiva!F46)","v":3.4953562425368183},{"$f":"IF(Aktiva!G38=0,0,Aktiva!G38/Pasiva!G46)","v":5.8414192204027087},{"$f":"IF(Aktiva!H38=0,0,Aktiva!H38/Pasiva!H46)","v":3.6271983200897226},{"$f":"IF(Aktiva!I38=0,0,Aktiva!I38/Pasiva!I46)","v":5.0985618263115242},{"$f":"IF(Aktiva!J38=0,0,Aktiva!J38/Pasiva!J46)","v":4.6491860230674185},{"$f":"IF(Aktiva!K38=0,0,Aktiva!K38/Pasiva!K46)","v":0},{"$f":"IF(Aktiva!L38=0,0,Aktiva!L38/Pasiva!L46)","v":0},{"$f":"IF(Aktiva!M38=0,0,Aktiva!M38/Pasiva!M46)","v":0},{"$f":"IF(Aktiva!N38=0,0,Aktiva!N38/Pasiva!N46)","v":0},{"$f":"IF(Aktiva!O38=0,0,Aktiva!O38/Pasiva!O46)","v":0},{"$f":"IF(Aktiva!P38=0,0,Aktiva!P38/Pasiva!P46)","v":0}]
[null,"Pohotová likvidita",null,null,null,{"$f":"IF(Aktiva!E38=0,0,(Aktiva!E38-Aktiva!E39)/Pasiva!E46)","v":1.8119974173856899},{"$f":"IF(Aktiva!F38=0,0,(Aktiva!F38-Aktiva!F39)/Pasiva!F46)","v":1.6529454690195038},{"$f":"IF(Aktiva!G38=0,0,(Aktiva!G38-Aktiva!G39)/Pasiva!G46)","v":2.9198545899300128},{"$f":"IF(Aktiva!H38=0,0,(Aktiva!H38-Aktiva!H39)/Pasiva!H46)","v":1.8292588350394923},{"$f":"IF(Aktiva!I38=0,0,(Aktiva!I38-Aktiva!I39)/Pasiva!I46)","v":2.6633962352145599},{"$f":"IF(Aktiva!J38=0,0,(Aktiva!J38-Aktiva!J39)/Pasiva!J46)","v":2.5227598186452158},{"$f":"IF(Aktiva!K38=0,0,(Aktiva!K38-Aktiva!K39)/Pasiva!K46)","v":0},{"$f":"IF(Aktiva!L38=0,0,(Aktiva!L38-Aktiva!L39)/Pasiva!L46)","v":0},{"$f":"IF(Aktiva!M38=0,0,(Aktiva!M38-Aktiva!M39)/Pasiva!M46)","v":0},{"$f":"IF(Aktiva!N38=0,0,(Aktiva!N38-Aktiva!N39)/Pasiva!N46)","v":0},{"$f":"IF(Aktiva!O38=0,0,(Aktiva!O38-Aktiva!O39)/Pasiva!O46)","v":0},{"$f":"IF(Aktiva!P38=0,0,(Aktiva!P38-Aktiva!P39)/Pasiva!P46)","v":0}]

{"sheet":"Z-score","index":8,"n_rows":6,"n_cols":17,"rows_kept":6,"cut":false,"hidden":false,"merged":[[4,1,5,4]]}
[]
[]
[]
[]
[null,"Altmannův index finančního zdraví (Z-score)",null,null,null,2007,2008,2009,2010,2011,2012,2013,2014,2015,2016,2017,2018]
[null,null,null,null,null,{"$f":"IF(Aktiva!E8=0,0,(((Aktiva!E38-Pasiva!E46)/Aktiva!E8)*0.717+(Pasiva!E25/Aktiva!E8)*0.847+(VZZ!E68/Aktiva!E8)*3.107+(Pasiva!E9/(Pasiva!E35+Pasiva!E46+Pasiva!E58)*0.42+((VZZ!E8+VZZ!E11+VZZ!E26+VZZ!E38)/Aktiva!E8)*0.998)))","v":2.8857074570556058},{"$f":"IF(Aktiva!F8=0,0,(((Aktiva!F38-Pasiva!F46)/Aktiva!F8)*0.717+(Pasiva!F25/Aktiva!F8)*0.847+(VZZ!F68/Aktiva!F8)*3.107+(Pasiva!F9/(Pasiva!F35+Pasiva!F46+Pasiva!F58)*0.42+((VZZ!F8+VZZ!F11+VZZ!F26+VZZ!F38)/Aktiva!F8)*0.998)))","v":2.284371428607801},{"$f":"IF(Aktiva!G8=0,0,(((Aktiva!G38-Pasiva!G46)/Aktiva!G8)*0.717+(Pasiva!G25/Aktiva!G8)*0.847+(VZZ!G68/Aktiva!G8)*3.107+(Pasiva!G9/(Pasiva!G35+Pasiva!G46+Pasiva!G58)*0.42+((VZZ!G8+VZZ!G11+VZZ!G26+VZZ!G38)/Aktiva!G8)*0.998)))","v":1.6144631385347727},{"$f":"IF(Aktiva!H8=0,0,(((Aktiva!H38-Pasiva!H46)/Aktiva!H8)*0.717+(Pasiva!H25/Aktiva!H8)*0.847+(VZZ!H68/Aktiva!H8)*3.107+(Pasiva!H9/(Pasiva!H35+Pasiva!H46+Pasiva!H58)*0.42+((VZZ!H8+VZZ!H11+VZZ!H26+VZZ!H38)/Aktiva!H8)*0.998)))","v":2.0782706747718223},{"$f":"IF(Aktiva!I8=0,0,(((Aktiva!I38-Pasiva!I46)/Aktiva!I8)*0.717+(Pasiva!I25/Aktiva!I8)*0.847+(VZZ!I68/Aktiva!I8)*3.107+(Pasiva!I9/(Pasiva!I35+Pasiva!I46+Pasiva!I58)*0.42+((VZZ!I8+VZZ!I11+VZZ!I26+VZZ!I38)/Aktiva!I8)*0.998)))","v":2.6435590429700548},{"$f":"IF(Aktiva!J8=0,0,(((Aktiva!J38-Pasiva!J46)/Aktiva!J8)*0.717+(Pasiva!J25/Aktiva!J8)*0.847+(VZZ!J68/Aktiva!J8)*3.107+(Pasiva!J9/(Pasiva!J35+Pasiva!J46+Pasiva!J58)*0.42+((VZZ!J8+VZZ!J11+VZZ!J26+VZZ!J38)/Aktiva!J8)*0.998)))","v":2.9415799210382132},{"$f":"IF(Aktiva!K8=0,0,(((Aktiva!K38-Pasiva!K46)/Aktiva!K8)*0.717+(Pasiva!K25/Aktiva!K8)*0.847+(VZZ!K68/Aktiva!K8)*3.107+(Pasiva!K9/(Pasiva!K35+Pasiva!K46+Pasiva!K58)*0.42+((VZZ!K8+VZZ!K11+VZZ!K26+VZZ!K38)/Aktiva!K8)*0.998)))","v":0},{"$f":"IF(Aktiva!L8=0,0,(((Aktiva!L38-Pasiva!L46)/Aktiva!L8)*0.717+(Pasiva!L25/Aktiva!L8)*0.847+(VZZ!L68/Aktiva!L8)*3.107+(Pasiva!L9/(Pasiva!L35+Pasiva!L46+Pasiva!L58)*0.42+((VZZ!L8+VZZ!L11+VZZ!L26+VZZ!L38)/Aktiva!L8)*0.998)))","v":0},{"$f":"IF(Aktiva!M8=0,0,(((Aktiva!M38-Pasiva!M46)/Aktiva!M8)*0.717+(Pasiva!M25/Aktiva!M8)*0.847+(VZZ!M68/Aktiva!M8)*3.107+(Pasiva!M9/(Pasiva!M35+Pasiva!M46+Pasiva!M58)*0.42+((VZZ!M8+VZZ!M11+VZZ!M26+VZZ!M38)/Aktiva!M8)*0.998)))","v":0},{"$f":"IF(Aktiva!N8=0,0,(((Aktiva!N38-Pasiva!N46)/Aktiva!N8)*0.717+(Pasiva!N25/Aktiva!N8)*0.847+(VZZ!N68/Aktiva!N8)*3.107+(Pasiva!N9/(Pasiva!N35+Pasiva!N46+Pasiva!N58)*0.42+((VZZ!N8+VZZ!N11+VZZ!N26+VZZ!N38)/Aktiva!N8)*0.998)))","v":0},{"$f":"IF(Aktiva!O8=0,0,(((Aktiva!O38-Pasiva!O46)/Aktiva!O8)*0.717+(Pasiva!O25/Aktiva!O8)*0.847+(VZZ!O68/Aktiva!O8)*3.107+(Pasiva!O9/(Pasiva!O35+Pasiva!O46+Pasiva!O58)*0.42+((VZZ!O8+VZZ!O11+VZZ!O26+VZZ!O38)/Aktiva!O8)*0.998)))","v":0},{"$f":"IF(Aktiva!P8=0,0,(((Aktiva!P38-Pasiva!P46)/Aktiva!P8)*0.717+(Pasiva!P25/Aktiva!P8)*0.847+(VZZ!P68/Aktiva!P8)*3.107+(Pasiva!P9/(Pasiva!P35+Pasiva!P46+Pasiva!P58)*0.42+((VZZ!P8+VZZ!P11+VZZ!P26+VZZ!P38)/Aktiva!P8)*0.998)))","v":0}]

{"sheet":"prognoza","index":9,"n_rows":33,"n_cols":18,"rows_kept":33,"cut":false,"hidden":false,"merged":[[32,4,32,5],[19,2,20,5],[21,2,21,5],[22,2,22,5],[23,2,23,5],[31,4,31,5]]}
[]
[]
[]
[]
[]
[]
[]
[]
[]
[]
[]
[]
[]
[]
[]
[null,null,"Nápověda"]
[]
[]
[]
[null,null,"Ukazatelé rentability"]
[null,null,null,null,null,null,2007,2008,2009,2010,2011,2012,2013,2014,2015,2016,2017,2018]
[null,null,"ROS [%]",null,null,null,0.2217253627129479,0.12683906257554925,7.0225975888550438E-2,0.12836329150540271,0.1913027663724996,0.15936289082042712,0,0,0,0,0,0]
[null,null,"ROA [%]",null,null,null,0.29351945769264365,0.20680091787146226,5.8403091555182488E-2,0.14228371599975487,0.22587324634954395,0.20656061592557221,0,0,0,0,0,0]
[null,null,null,null,null,null,0,0,0,0,0,0,0,0,0,0,0,0]
[]
[]
[]
[]
[]
[]
[null,null,null,null,null,null,2007,2008,2009,2010,2011,2012,2013,2014,2015,2016,2017,2018]
[null,null,null,null,"ROA",null,0.29351945769264365,0.20680091787146226,5.8403091555182488E-2,0.14228371599975487,0.22587324634954395,0.20656061592557221,0,0,0,0,0,0]
[null,null,null,null,"Regresní funkce",null,0.32161645637704445,0.18873441349285741,0.11487437049726509,7.2338232247750336E-2,4.7018985848100561E-2,3.1477229524641201E-2,2.1660050602754843E-2,1.5291291374422178E-2,0,0,0,0]